BEGIN:VCALENDAR
VERSION:2.0
PRODID:-//Monarch Beach Golf Links - ECPv6.15.18//NONSGML v1.0//EN
CALSCALE:GREGORIAN
METHOD:PUBLISH
X-ORIGINAL-URL:https://www.monarchbeachgolf.com
X-WR-CALDESC:Events for Monarch Beach Golf Links
REFRESH-INTERVAL;VALUE=DURATION:PT1H
X-Robots-Tag:noindex
X-PUBLISHED-TTL:PT1H
BEGIN:VTIMEZONE
TZID:America/Los_Angeles
BEGIN:DAYLIGHT
TZOFFSETFROM:-0800
TZOFFSETTO:-0700
TZNAME:PDT
DTSTART:20240310T100000
END:DAYLIGHT
BEGIN:STANDARD
TZOFFSETFROM:-0700
TZOFFSETTO:-0800
TZNAME:PST
DTSTART:20241103T090000
END:STANDARD
BEGIN:DAYLIGHT
TZOFFSETFROM:-0800
TZOFFSETTO:-0700
TZNAME:PDT
DTSTART:20250309T100000
END:DAYLIGHT
BEGIN:STANDARD
TZOFFSETFROM:-0700
TZOFFSETTO:-0800
TZNAME:PST
DTSTART:20251102T090000
END:STANDARD
BEGIN:DAYLIGHT
TZOFFSETFROM:-0800
TZOFFSETTO:-0700
TZNAME:PDT
DTSTART:20260308T100000
END:DAYLIGHT
BEGIN:STANDARD
TZOFFSETFROM:-0700
TZOFFSETTO:-0800
TZNAME:PST
DTSTART:20261101T090000
END:STANDARD
END:VTIMEZONE
BEGIN:VEVENT
DTSTART;TZID=America/Los_Angeles:20250407T130000
DTEND;TZID=America/Los_Angeles:20250407T170000
DTSTAMP:20260422T043758
CREATED:20250116T221117Z
LAST-MODIFIED:20250116T222323Z
UID:2979-1744030800-1744045200@www.monarchbeachgolf.com
SUMMARY:Links Card Play Day!
DESCRIPTION:Join us for the fourth LinksCard Play Day of 2025 at Monarch Beach Golf Links! Experience an unforgettable day of golf\, exclusive perks\, and special activations reserved for our Links Cardholders and their guests.\n*Clinic & F&B activation details are TBD \nEvent Details \n\nDate: Monday\, April 7th\nTime:\n\nShotgun Start: 1:00 PM\n\n\nGuest Fee: $150 per person (Cardholder and up to 7 guests at this special rate)\nCall the shop at 949-248-3002 ext. 5 to secure your space!\n\nOr email\, Anthony Lanza\, PGA at alanza@monarchbeachgolf.com\n\n\n\n 
URL:https://www.monarchbeachgolf.com/event/links-card-play-day-4/
END:VEVENT
BEGIN:VEVENT
DTSTART;TZID=America/Los_Angeles:20250407T133000
DTEND;TZID=America/Los_Angeles:20250407T163000
DTSTAMP:20260422T043758
CREATED:20250114T000918Z
LAST-MODIFIED:20250114T000918Z
UID:2955-1744032600-1744043400@www.monarchbeachgolf.com
SUMMARY:Spring Break Junior Camp - April 7th-9th
DESCRIPTION:Spring Break Golf Camp\nMonday – Wednesday\nApril 7th – 9th\n1:30 pm – 4:30 pm\nBoys + Girls Ages 6 – 13\nSnacks\, water & all equipment included.\n$375 per golfer \nRegister: www.monarchbeachgolf.com/junior-golf-camps/ \n 
URL:https://www.monarchbeachgolf.com/event/spring-break-junior-camp-april-7th-9th/
END:VEVENT
END:VCALENDAR