BEGIN:VCALENDAR
VERSION:2.0
PRODID:-//Monarch Beach Golf Links - ECPv6.15.18//NONSGML v1.0//EN
CALSCALE:GREGORIAN
METHOD:PUBLISH
X-WR-CALNAME:Monarch Beach Golf Links
X-ORIGINAL-URL:https://www.monarchbeachgolf.com
X-WR-CALDESC:Events for Monarch Beach Golf Links
REFRESH-INTERVAL;VALUE=DURATION:PT1H
X-Robots-Tag:noindex
X-PUBLISHED-TTL:PT1H
BEGIN:VTIMEZONE
TZID:America/Los_Angeles
BEGIN:DAYLIGHT
TZOFFSETFROM:-0800
TZOFFSETTO:-0700
TZNAME:PDT
DTSTART:20240310T100000
END:DAYLIGHT
BEGIN:STANDARD
TZOFFSETFROM:-0700
TZOFFSETTO:-0800
TZNAME:PST
DTSTART:20241103T090000
END:STANDARD
BEGIN:DAYLIGHT
TZOFFSETFROM:-0800
TZOFFSETTO:-0700
TZNAME:PDT
DTSTART:20250309T100000
END:DAYLIGHT
BEGIN:STANDARD
TZOFFSETFROM:-0700
TZOFFSETTO:-0800
TZNAME:PST
DTSTART:20251102T090000
END:STANDARD
BEGIN:DAYLIGHT
TZOFFSETFROM:-0800
TZOFFSETTO:-0700
TZNAME:PDT
DTSTART:20260308T100000
END:DAYLIGHT
BEGIN:STANDARD
TZOFFSETFROM:-0700
TZOFFSETTO:-0800
TZNAME:PST
DTSTART:20261101T090000
END:STANDARD
END:VTIMEZONE
BEGIN:VEVENT
DTSTART;TZID=America/Los_Angeles:20250204T103000
DTEND;TZID=America/Los_Angeles:20250204T170000
DTSTAMP:20260422T053604
CREATED:20250113T235706Z
LAST-MODIFIED:20250115T210910Z
UID:2949-1738665000-1738688400@www.monarchbeachgolf.com
SUMMARY:Links Card Play Day
DESCRIPTION:Exclusive Links Card Play Day – Tuesday\, February 4th \nJoin us for the second LinksCard Play Day of 2025 at Monarch Beach Golf Links! Experience an unforgettable day of golf\, exclusive perks\, and special activations reserved for our Links Cardholders WAMBR Members\, Club Serrano\, and their guests. \nEvent Details\n\nDate: Tuesday\, February 4th\nTime:\n\nTitleist SM10 Vokey Wedge clinic & testing with Jackie Riegle\, PGA: 10:30 AM – 11:30 am at Hole 1\nShotgun Start: 12:00 PM\n\n\nGuest Fee: $150 per person (Cardholder and up to 7 guests at this special rate)\nCall the shop at 949-248-3002 ext. 5 to secure your space!\n\nOr email\, Anthony Lanza\, PGA at alanza@monarchbeachgolf.com\n\n\n\nTitleist Purchase Opportunities: \n\nLinkslegend bag and receive (2) sleeves of Titleist golfballs\nNew GT Driver/Mini Driver Receive Dozen Titleist golfballs\nSM10 wedge receive (2) sleeves of Titleist golfballs\n\n  \nSave the Date or RSVP for the next Play Day: \n\nWed\, Mar 12\, 2025 – 12:30 pm ($150 pp guest fee)\nRSVP to Anthony Lanza\, PGA at alanza@monarchbeachgolf.com 
URL:https://www.monarchbeachgolf.com/event/links-card-play-day-2/
END:VEVENT
BEGIN:VEVENT
DTSTART;TZID=America/Los_Angeles:20250224T120000
DTEND;TZID=America/Los_Angeles:20250224T170000
DTSTAMP:20260422T053604
CREATED:20250126T191126Z
LAST-MODIFIED:20250126T191126Z
UID:3016-1740398400-1740416400@www.monarchbeachgolf.com
SUMMARY:Titleist Fitting Day
DESCRIPTION:Titleist: Your Best Golf Starts Here! ⛳ \nFind your ideal Titleist setup with a complimentary fitting session led by Jim Pooler.\nChoose from woods\, irons\, or wedges in just 45 minutes\, and get dialed in like a pro. \n💥 Book now to transform your game!
URL:https://www.monarchbeachgolf.com/event/titleist-fitting-day/
END:VEVENT
BEGIN:VEVENT
DTSTART;TZID=America/Los_Angeles:20250224T120000
DTEND;TZID=America/Los_Angeles:20250224T170000
DTSTAMP:20260422T053604
CREATED:20250126T191210Z
LAST-MODIFIED:20250126T191210Z
UID:3018-1740398400-1740416400@www.monarchbeachgolf.com
SUMMARY:TaylorMade Fitting Day
DESCRIPTION:Experience the New TaylorMade Q135 Lineup! 🚀 \nBe among the first to test the brand-new TaylorMade Q135 clubs with a complimentary 45-minute fitting session led by a TaylorMade expert fitter.\n🔧 Woods\, irons\, or wedges — perfectly tailored to your swing. \n💥 Reserve your spot now and play your best!
URL:https://www.monarchbeachgolf.com/event/taylormade-fitting-day-2/
END:VEVENT
END:VCALENDAR